BEGIN:VCALENDAR
VERSION:2.0
PRODID:-//Shandan - ECPv4.8.1//NONSGML v1.0//EN
CALSCALE:GREGORIAN
METHOD:PUBLISH
X-WR-CALNAME:Shandan
X-ORIGINAL-URL:https://www.shandan.ch
X-WR-CALDESC:Veranstaltungen für Shandan
BEGIN:VEVENT
DTSTART;VALUE=DATE:20171201
DTEND;VALUE=DATE:20171223
DTSTAMP:20260420T150622
CREATED:20161209T104546Z
LAST-MODIFIED:20171024T125811Z
UID:4802-1512086400-1513987199@www.shandan.ch
SUMMARY:Weihnachtsmarkt in Winterthur
DESCRIPTION:Vom 1. Dezember bis 22. Dezember 2017 (Mo-Sa von 11:00 – 22:30 Uhr / So von 11:00 – 19:00 Uhr) finden Sie uns auf dem Marktplatz. Wir präsentieren Ihnen unsere Schmuck-Kollektion\, Schwemmholz-Girlanden und Affirmations-Fahnen. Unser Team berät Sie gerne vor Ort. Kommen Sie an unseren Stand\, wir freuen uns! \n
URL:https://www.shandan.ch/event/weihnachtsmarkt-winterthur/
CATEGORIES:Weihnachtsmärkte
ATTACH;FMTTYPE=image/jpeg:https://www.shandan.ch/wp-content/uploads/2015/07/WM-Winti.jpg
END:VEVENT
END:VCALENDAR