BEGIN:VCALENDAR
VERSION:2.0
PRODID:-//Shandan - ECPv4.8.1//NONSGML v1.0//EN
CALSCALE:GREGORIAN
METHOD:PUBLISH
X-WR-CALNAME:Shandan
X-ORIGINAL-URL:https://www.shandan.ch
X-WR-CALDESC:Veranstaltungen für Shandan
BEGIN:VEVENT
DTSTART;VALUE=DATE:20171123
DTEND;VALUE=DATE:20171224
DTSTAMP:20260420T151845
CREATED:20161216T190508Z
LAST-MODIFIED:20171024T131756Z
UID:4847-1511395200-1514073599@www.shandan.ch
SUMMARY:Weihnachtsmarkt in Zürich
DESCRIPTION:Vom 23. November bis 23. Dezember 2017 finden Sie uns am Haupteingang vom Globus Zürich an der Schweizerhofgasse. Gerne zeigen wir Ihnen unsere neuen Schmuck-Kreationen sowie die Schwemmholz-Girlanden. Kommen Sie vorbei\, wir freuen uns! \n
URL:https://www.shandan.ch/event/weihnachtsmarkt-in-zuerich/
LOCATION:Globus Zürich\, Schweizergasse 11\, Zürich\, Zürich\, 8001\, Schweiz
CATEGORIES:Weihnachtsmärkte
ATTACH;FMTTYPE=image/jpeg:https://www.shandan.ch/wp-content/uploads/2015/07/WM-Globus.jpg
END:VEVENT
END:VCALENDAR