BEGIN:VCALENDAR
VERSION:2.0
PRODID:-//Shandan - ECPv4.8.1//NONSGML v1.0//EN
CALSCALE:GREGORIAN
METHOD:PUBLISH
X-WR-CALNAME:Shandan
X-ORIGINAL-URL:https://www.shandan.ch
X-WR-CALDESC:Veranstaltungen für Shandan
BEGIN:VEVENT
DTSTART;VALUE=DATE:20171028
DTEND;VALUE=DATE:20171115
DTSTAMP:20260420T152349
CREATED:20171024T125912Z
LAST-MODIFIED:20171025T043510Z
UID:4861-1509148800-1510703999@www.shandan.ch
SUMMARY:Herbstmesse Basel
DESCRIPTION:Vom 28. Oktober bis 14. November 2017 (von 11:00 – 20:00 Uhr) finden Sie uns an der Herbstmesse in Basel. Gerne zeigen wir Ihnen unsere neuen Schmuck-Kreationen sowie die Schwemmholz-Girlanden. Kommen Sie vorbei\, wir freuen uns! \n
URL:https://www.shandan.ch/event/herbstmesse-basel/
LOCATION:Herbstmesse Basel\, Messeplatz 1\, Basel\, Basel\, 4005\, Schweiz
CATEGORIES:Messen
ATTACH;FMTTYPE=image/jpeg:https://www.shandan.ch/wp-content/uploads/2017/10/basler-herbstmesse.jpg
END:VEVENT
END:VCALENDAR