BEGIN:VCALENDAR
VERSION:2.0
PRODID:-//Shandan - ECPv4.8.1//NONSGML v1.0//EN
CALSCALE:GREGORIAN
METHOD:PUBLISH
X-WR-CALNAME:Shandan
X-ORIGINAL-URL:https://www.shandan.ch
X-WR-CALDESC:Veranstaltungen für Shandan
BEGIN:VEVENT
DTSTART;VALUE=DATE:20171207
DTEND;VALUE=DATE:20171211
DTSTAMP:20260420T165557
CREATED:20171024T125408Z
LAST-MODIFIED:20171024T132048Z
UID:4857-1512604800-1512950399@www.shandan.ch
SUMMARY:Bremgarten Weihnachtsmarkt
DESCRIPTION:Vom 7. Dezember bis 10. Dezember 2017 finden Sie uns in Bremgarten. Gerne zeigen wir Ihnen unsere neuen Schmuck-Kreationen sowie die Schwemmholz-Girlanden. Kommen Sie vorbei\, wir freuen uns! \n
URL:https://www.shandan.ch/event/bremgarten-weihnachtsmarkt/
LOCATION:Bremgarten\, Bremgarten\, 5620\, Schweiz
CATEGORIES:Weihnachtsmärkte
ATTACH;FMTTYPE=image/jpeg:https://www.shandan.ch/wp-content/uploads/2015/07/WM-Globus.jpg
END:VEVENT
END:VCALENDAR